BEGIN:VCALENDAR
VERSION:2.0
PRODID:-//Taradale RSA - ECPv6.10.3//NONSGML v1.0//EN
CALSCALE:GREGORIAN
METHOD:PUBLISH
X-ORIGINAL-URL:https://taradalersa.co.nz
X-WR-CALDESC:Events for Taradale RSA
REFRESH-INTERVAL;VALUE=DURATION:PT1H
X-Robots-Tag:noindex
X-PUBLISHED-TTL:PT1H
BEGIN:VTIMEZONE
TZID:Pacific/Auckland
BEGIN:STANDARD
TZOFFSETFROM:+1300
TZOFFSETTO:+1200
TZNAME:NZST
DTSTART:20230401T140000
END:STANDARD
BEGIN:DAYLIGHT
TZOFFSETFROM:+1200
TZOFFSETTO:+1300
TZNAME:NZDT
DTSTART:20230923T140000
END:DAYLIGHT
END:VTIMEZONE
BEGIN:VEVENT
DTSTART;VALUE=DATE:20230425
DTEND;VALUE=DATE:20230426
DTSTAMP:20260420T225035
CREATED:20230421T004956Z
LAST-MODIFIED:20230421T004956Z
UID:3041-1682380800-1682467199@taradalersa.co.nz
SUMMARY:ANZAC DAY SERVICES - TARADALE RSA
DESCRIPTION:DAWN SERVICE – LONE PINE – PUKETAPU RD 6AM START \nCIVIC SERVICE – TARADALE CLOCK TOWER 9AM START \nENTERTAINMENT : @ TARADALE RSA \nCONCERT PARTY 1030AM \n‘NV’ 11AM ONWARDS
URL:https://taradalersa.co.nz/event/anzac-day-services-taradale-rsa/
LOCATION:Taradale RSA\, 156 Gloucester Street\, Napier\, Hawke’s Bay\, 4112\, New Zealand
ATTACH;FMTTYPE=image/jpeg:https://taradalersa.co.nz/wp-content/uploads/2023/04/anzac-day.jpg
ORGANIZER;CN="Taradale RSA":MAILTO:156 Gloucester Street, Taradale, Napier 4141
END:VEVENT
END:VCALENDAR