BEGIN:VCALENDAR
VERSION:2.0
PRODID:-//Taradale RSA - ECPv6.10.3//NONSGML v1.0//EN
CALSCALE:GREGORIAN
METHOD:PUBLISH
X-WR-CALNAME:Taradale RSA
X-ORIGINAL-URL:https://taradalersa.co.nz
X-WR-CALDESC:Events for Taradale RSA
REFRESH-INTERVAL;VALUE=DURATION:PT1H
X-Robots-Tag:noindex
X-PUBLISHED-TTL:PT1H
BEGIN:VTIMEZONE
TZID:Pacific/Auckland
BEGIN:STANDARD
TZOFFSETFROM:+1300
TZOFFSETTO:+1200
TZNAME:NZST
DTSTART:20250405T140000
END:STANDARD
BEGIN:DAYLIGHT
TZOFFSETFROM:+1200
TZOFFSETTO:+1300
TZNAME:NZDT
DTSTART:20250927T140000
END:DAYLIGHT
END:VTIMEZONE
BEGIN:VEVENT
DTSTART;TZID=Pacific/Auckland:20250731T080000
DTEND;TZID=Pacific/Auckland:20250731T170000
DTSTAMP:20260422T171726
CREATED:20250730T231459Z
LAST-MODIFIED:20250730T231459Z
UID:5155-1753948800-1753981200@taradalersa.co.nz
SUMMARY:$10 Roast Night - Members ONLY
DESCRIPTION:From 5pm enjoy a lovely Roast meal for only $10(must be a financial member of the Taradale RSA) Dine -in only.
URL:https://taradalersa.co.nz/event/10-roast-night-members-only/2025-07-31/
LOCATION:Taradale RSA\, 156 Gloucester Street\, Napier\, Hawke’s Bay\, 4112\, New Zealand
ATTACH;FMTTYPE=image/jpeg:https://taradalersa.co.nz/wp-content/uploads/2025/07/10-Roast-Night-scaled.jpg
ORGANIZER;CN="Taradale RSA":MAILTO:156 Gloucester Street, Taradale, Napier 4141
END:VEVENT
BEGIN:VEVENT
DTSTART;TZID=Pacific/Auckland:20250731T080000
DTEND;TZID=Pacific/Auckland:20250731T170000
DTSTAMP:20260422T171726
CREATED:20250730T234506Z
LAST-MODIFIED:20250730T234506Z
UID:5236-1753948800-1753981200@taradalersa.co.nz
SUMMARY:$15 TUESDAY LUNCH SPECIAL
DESCRIPTION:
URL:https://taradalersa.co.nz/event/15-tuesday-lunch-special/
LOCATION:Taradale RSA\, 156 Gloucester Street\, Napier\, Hawke’s Bay\, 4112\, New Zealand
ATTACH;FMTTYPE=image/jpeg:https://taradalersa.co.nz/wp-content/uploads/2025/07/TRSA_LunchPoster_A1_PROOF2_Page_2-scaled.jpg
ORGANIZER;CN="Taradale RSA":MAILTO:156 Gloucester Street, Taradale, Napier 4141
END:VEVENT
BEGIN:VEVENT
DTSTART;TZID=Pacific/Auckland:20250731T123000
DTEND;TZID=Pacific/Auckland:20250731T150000
DTSTAMP:20260422T171726
CREATED:20250730T234730Z
LAST-MODIFIED:20251105T215052Z
UID:5239-1753965000-1753974000@taradalersa.co.nz
SUMMARY:HOUSIE
DESCRIPTION:EYES DOWN 1230PM
URL:https://taradalersa.co.nz/event/housie/2025-07-31/
LOCATION:Taradale RSA\, 156 Gloucester Street\, Napier\, Hawke’s Bay\, 4112\, New Zealand
ATTACH;FMTTYPE=image/jpeg:https://taradalersa.co.nz/wp-content/uploads/2025/07/HOUSIE-POSTER-STATIC.jpg
ORGANIZER;CN="Taradale RSA":MAILTO:156 Gloucester Street, Taradale, Napier 4141
END:VEVENT
BEGIN:VEVENT
DTSTART;TZID=Pacific/Auckland:20250731T170000
DTEND;TZID=Pacific/Auckland:20250731T190000
DTSTAMP:20260422T171726
CREATED:20230510T232658Z
LAST-MODIFIED:20230510T232658Z
UID:3720-1753981200-1753988400@taradalersa.co.nz
SUMMARY:CRACK THE CODE
DESCRIPTION:Members only raffle\, Thursday & Friday night. Times vary between 5pm -7pm.
URL:https://taradalersa.co.nz/event/crack-the-code/2025-07-31/
LOCATION:Taradale RSA\, 156 Gloucester Street\, Napier\, Hawke’s Bay\, 4112\, New Zealand
ATTACH;FMTTYPE=image/jpeg:https://taradalersa.co.nz/wp-content/uploads/2023/05/Crack-code-scaled.jpg
ORGANIZER;CN="Taradale RSA":MAILTO:156 Gloucester Street, Taradale, Napier 4141
END:VEVENT
BEGIN:VEVENT
DTSTART;TZID=Pacific/Auckland:20250731T190000
DTEND;TZID=Pacific/Auckland:20250731T210000
DTSTAMP:20260422T171726
CREATED:20250730T234357Z
LAST-MODIFIED:20250730T235113Z
UID:5234-1753988400-1753995600@taradalersa.co.nz
SUMMARY:LIVE MUSIC FRIDAYS
DESCRIPTION:LIVE MUSIC EVERY FRIDAY FROM 7PM
URL:https://taradalersa.co.nz/event/live-music-fridays/2025-07-31/
LOCATION:Taradale RSA\, 156 Gloucester Street\, Napier\, Hawke’s Bay\, 4112\, New Zealand
ATTACH;FMTTYPE=image/jpeg:https://taradalersa.co.nz/wp-content/uploads/2022/09/Live-Music-Fridays-Taradale-RSA.jpeg
ORGANIZER;CN="Taradale RSA":MAILTO:156 Gloucester Street, Taradale, Napier 4141
END:VEVENT
END:VCALENDAR