BEGIN:VCALENDAR
VERSION:2.0
PRODID:-//Taradale RSA - ECPv6.10.3//NONSGML v1.0//EN
CALSCALE:GREGORIAN
METHOD:PUBLISH
X-ORIGINAL-URL:https://taradalersa.co.nz
X-WR-CALDESC:Events for Taradale RSA
REFRESH-INTERVAL;VALUE=DURATION:PT1H
X-Robots-Tag:noindex
X-PUBLISHED-TTL:PT1H
BEGIN:VTIMEZONE
TZID:Pacific/Auckland
BEGIN:STANDARD
TZOFFSETFROM:+1300
TZOFFSETTO:+1200
TZNAME:NZST
DTSTART:20230401T140000
END:STANDARD
BEGIN:DAYLIGHT
TZOFFSETFROM:+1200
TZOFFSETTO:+1300
TZNAME:NZDT
DTSTART:20230923T140000
END:DAYLIGHT
END:VTIMEZONE
BEGIN:VEVENT
DTSTART;TZID=Pacific/Auckland:20230902T183000
DTEND;TZID=Pacific/Auckland:20230902T233000
DTSTAMP:20260420T074810
CREATED:20230421T003649Z
LAST-MODIFIED:20230421T003655Z
UID:2998-1693679400-1693697400@taradalersa.co.nz
SUMMARY:SATURDAY SESSIONS(OPEN CLUB NIGHT)
DESCRIPTION:THE MIZARABLES. LIVE AT THE TARADALE RSA. OPEN TO ALL NON-MEMBERS(NO SIGNING-IN) & NO COVER CHARGE.
URL:https://taradalersa.co.nz/event/saturday-sessionsopen-club-night/
LOCATION:Taradale RSA\, 156 Gloucester Street\, Napier\, Hawke’s Bay\, 4112\, New Zealand
ATTACH;FMTTYPE=image/png:https://taradalersa.co.nz/wp-content/uploads/2022/07/Fallback-Post.png
ORGANIZER;CN="Taradale RSA":MAILTO:156 Gloucester Street, Taradale, Napier 4141
END:VEVENT
END:VCALENDAR